BEGIN:VCALENDAR
VERSION:2.0
PRODID:-//eventon.com NONSGML v1.0//EN
CALSCALE:GREGORIAN
METHOD:PUBLISH
BEGIN:VEVENT
UID:69e75a2c1b7a9
DTSTAMP:20260421T110620Z
DTSTART:20211019
DTEND:20211020
LOCATION:
SUMMARY:MILIPOL PARIS 2021
DESCRIPTION:Come and attend the world exhibition MILIPOL PARIS which will t
 ake place at the Parc des Exposition de Villepinte from 19 to 21 October 20
 21. Reserved for professionals only\,  it will be an opportunity for you to
  (re)discover the field of public security and the fight against crime.\nht
 tps://ouvry.com/events/milipol-paris-2021-2/
URL:https://ouvry.com/events/milipol-paris-2021-2/
END:VEVENT
END:VCALENDAR