BEGIN:VCALENDAR
VERSION:2.0
PRODID:-//eventon.com NONSGML v1.0//EN
CALSCALE:GREGORIAN
METHOD:PUBLISH
BEGIN:VEVENT
UID:69e75470cec83
DTSTAMP:20260421T104152Z
DTSTART:20250401T070000Z
DTEND:20250403T140000Z
LOCATION:
SUMMARY:SOFINS 2025
DESCRIPTION:Retrouvez-nous Ã  SOFINS 2025 â€“ Stand C22 ! Nous sommes ravis
  dâ€™annoncer notre participation Ã  la 7e Ã©dition de SOFINS 2025\,  lâ€™Ã
 ©vÃ©nement de rÃ©fÃ©rence dÃ©diÃ© aux forces spÃ©ciales et aux acteurs de l
 a dÃ©fense. OrganisÃ© tous les deux ans\,  ce salon unique en Europe rassem
 ble les experts du domaine pour[..]\nhttps://ouvry.com/events/sofins-2025/
URL:https://ouvry.com/events/sofins-2025/
END:VEVENT
END:VCALENDAR