BEGIN:VCALENDAR
VERSION:2.0
PRODID:-//eventon.com NONSGML v1.0//EN
CALSCALE:GREGORIAN
METHOD:PUBLISH
BEGIN:VEVENT
UID:69e75a290e2e7
DTSTAMP:20260421T110617Z
DTSTART:20251008T060100Z
DTEND:20251010T150000Z
LOCATION:
SUMMARY:Journées Techniques Interactives SSE NRBC SFMU
DESCRIPTION:Se préparer à faire face à l'exceptionnel\nhttps://ouvry.com
 /events/journees-techniques-interactives-sse-nrbc-sfmu/
URL:https://ouvry.com/events/journees-techniques-interactives-sse-nrbc-sfmu/
END:VEVENT
END:VCALENDAR