BEGIN:VCALENDAR
VERSION:2.0
PRODID:-//eventon.com NONSGML v1.0//EN
CALSCALE:GREGORIAN
METHOD:PUBLISH
BEGIN:VEVENT
UID:69e756043be66
DTSTAMP:20260421T104836Z
DTSTART:20260326T090000Z
DTEND:20260327T160000Z
LOCATION:
SUMMARY:COPACAMU
DESCRIPTION:26â€“27 mars â€“ Marseille\,  France Les 25es JournÃ©es mÃ©dica
 les du collÃ¨ge PACA de mÃ©decine d'Urgence COPACAMU est un Ã©vÃ©nement clÃ
 © pour les professionnels engagÃ©s dans la gestion des crises et catastroph
 es majeures\,  incluant les scÃ©narios NRBC. Ouvry y participe pour renforc
 er les liens avec les dÃ©cideurs et opÃ©rateurs de terrain.\nhttps://ouvry.
 com/events/copacamu/
URL:https://ouvry.com/events/copacamu/
END:VEVENT
END:VCALENDAR